BEGIN:VCALENDAR
VERSION:2.0
PRODID:-//wp-events-plugin.com//7.2.3.1//EN
TZID:Europe/Berlin
X-WR-TIMEZONE:Europe/Berlin
BEGIN:VEVENT
UID:103@musikverein-betzingen.de
DTSTART:20261114T000000Z
DTEND:20261114T000000Z
DTSTAMP:20260303T171539Z
URL:https://musikverein-betzingen.de/events/st-martin-2/
SUMMARY:St. Martin
DESCRIPTION:
ATTACH;FMTTYPE=image/jpeg:https://musikverein-betzingen.de/wp-content/uplo
 ads/2025/11/20251115_173233-scaled.jpg
LOCATION:Mauritiuskirche\, Im Dorf 1\, Reutlingen-Betzingen\, 72770\, Deuts
 chland
X-APPLE-STRUCTURED-LOCATION;VALUE=URI;X-ADDRESS=Im Dorf 1\, Reutlingen-Betz
 ingen\, 72770\, Deutschland;X-APPLE-RADIUS=100;X-TITLE=Mauritiuskirche:geo
 :0,0
END:VEVENT
END:VCALENDAR