BEGIN:VCALENDAR
VERSION:2.0
PRODID:-//wp-events-plugin.com//7.2.3.1//EN
TZID:Europe/Berlin
X-WR-TIMEZONE:Europe/Berlin
BEGIN:VEVENT
UID:92@musikverein-betzingen.de
DTSTART:20261110T183000Z
DTEND:20261110T193000Z
DTSTAMP:20260202T171808Z
URL:https://musikverein-betzingen.de/events/musiksaalkonzert-8/
SUMMARY:Musiksaalkonzert
DESCRIPTION:
ATTACH;FMTTYPE=image/jpeg:https://musikverein-betzingen.de/wp-content/uplo
 ads/2026/02/Flyer_Musiksaalkonzert_2026_11.jpg
CATEGORIES:Jugendkonzert
LOCATION:Musiksaal der Friedrich-Hoffmann-Gemeinschaftsschule\, Hoffmannstr
 aße 4+7\, Reutlingen\, 72770\, Deutschland
X-APPLE-STRUCTURED-LOCATION;VALUE=URI;X-ADDRESS=Hoffmannstraße 4+7\, Reutl
 ingen\, 72770\, Deutschland;X-APPLE-RADIUS=100;X-TITLE=Musiksaal der Fried
 rich-Hoffmann-Gemeinschaftsschule:geo:0,0
END:VEVENT
END:VCALENDAR